BEGIN:VCALENDAR
VERSION:2.0
PRODID:-//Vědomě s Pavlou - ECPv6.15.20//NONSGML v1.0//EN
CALSCALE:GREGORIAN
METHOD:PUBLISH
X-WR-CALNAME:Vědomě s Pavlou
X-ORIGINAL-URL:https://vedomespavlou.cz
X-WR-CALDESC:Akce na Vědomě s Pavlou
REFRESH-INTERVAL;VALUE=DURATION:PT1H
X-Robots-Tag:noindex
X-PUBLISHED-TTL:PT1H
BEGIN:VTIMEZONE
TZID:Europe/Prague
BEGIN:DAYLIGHT
TZOFFSETFROM:+0100
TZOFFSETTO:+0200
TZNAME:CEST
DTSTART:20250330T010000
END:DAYLIGHT
BEGIN:STANDARD
TZOFFSETFROM:+0200
TZOFFSETTO:+0100
TZNAME:CET
DTSTART:20251026T010000
END:STANDARD
BEGIN:DAYLIGHT
TZOFFSETFROM:+0100
TZOFFSETTO:+0200
TZNAME:CEST
DTSTART:20260329T010000
END:DAYLIGHT
BEGIN:STANDARD
TZOFFSETFROM:+0200
TZOFFSETTO:+0100
TZNAME:CET
DTSTART:20261025T010000
END:STANDARD
BEGIN:DAYLIGHT
TZOFFSETFROM:+0100
TZOFFSETTO:+0200
TZNAME:CEST
DTSTART:20270328T010000
END:DAYLIGHT
BEGIN:STANDARD
TZOFFSETFROM:+0200
TZOFFSETTO:+0100
TZNAME:CET
DTSTART:20271031T010000
END:STANDARD
END:VTIMEZONE
BEGIN:VEVENT
DTSTART;VALUE=DATE:20260604
DTEND;VALUE=DATE:20260612
DTSTAMP:20260420T053716
CREATED:20260213T141812Z
LAST-MODIFIED:20260215T111743Z
UID:71514-1780531200-1781222399@vedomespavlou.cz
SUMMARY:Pobyt na řeckém ostrově Skopelos
DESCRIPTION:Co vás čeká?\n\nRan­ní jem­ná jóga\nVědomý pohyb a dech pro probuzení těla\, uvol­nění napětí a lehký vst­up do dne. \nOdpoled­ní zklid­nění a regenerace\nVedená relax­ace\, med­i­tace a dechová praxe pro reg­u­laci ner­vového sys­té­mu. Pros­tor\, kde se můžete oprav­du uvolnit. \nSíla mís­ta — ostrov Skopelos\nMoře\, slunce\, příro­da a poma­lý ryt­mus řeck­ého ostro­va budou přirozenou součástí vaše­ho prožitku. \nČas pro sebe\nKoupání\, dobré jíd­lo\, ticho\, sdílení i chvíle o samotě.\nBeze spěchu\, bez tlaku na to\, že něco musím. \nMalá skupina\, indi­viduál­ní přístup\nKomorní prostředí\, které umožní bezpečí\, hloubku a dostatek pros­toru pro každého. \nPobyt se koná v malé ves­ničce Agnon­das\, cca 15min autem od hlavního městeč­ka Skope­los. Uby­to­vaní budete v rodin­ném pen­zionu The Pine Trees\, který nabízí klid­né zázemí ve stínu borovic. \nV ceně  poby­tu je: uby­tování ve dvoulůžkovém poko­ji se sní­daní\, ran­ní a odpoled­ní pohy­bový a relax­ační pro­gram\, pod­po­ra při zaři­zování poby­tu i během pobytu \nCena za osobu ve dvoulůžkovém poko­ji: 15900kč \nPří­pad­ně je možná dom­lu­va i jed­nolůžkového poko­je. Možno vzít s sebou i necvičící osobu\, také na zák­ladě domluvy. \nVíce infor­ma­cí na tel. 777200033 nebo na emailu latalova.pavla@email.cz \n  \n\n\n\n 
URL:https://vedomespavlou.cz/udalost/pobyt-na-reckem-ostrove-skopelos/
LOCATION:Skopelos\, Greece
CATEGORIES:Jógové pobyty
ATTACH;FMTTYPE=image/jpeg:https://vedomespavlou.cz/wp-content/uploads/2024/11/caves-sea-area-alanya-turkey-scaled.jpg
END:VEVENT
BEGIN:VEVENT
DTSTART;VALUE=DATE:20260719
DTEND;VALUE=DATE:20260727
DTSTAMP:20260420T053717
CREATED:20260413T071555Z
LAST-MODIFIED:20260413T071801Z
UID:71535-1784419200-1785110399@vedomespavlou.cz
SUMMARY:Cesta z iluze k prameni
DESCRIPTION:Terapeuticko-duchovní pobyt v Mariánských lázních — DUŠEVNÍ REHABILITACE V KRAJINĚ LÉČIVÉ VODY\nMalý skupinový pobyt v Park­hotelu Golf v Mar­ián­ských Lázních. V prostředí ticha\, léčivé vody a lesa. Zvu vás na ten­to pobyt\, který povedeme s mojí kamarád­k­ou\, která má dlou­ho­leté zkušenos­ti v oblasti lázeňství a přírod­ních zdro­jů. Čeká vás indi­viduál­ní příst­up a možnost se oprav­du zas­tavit sám/a se sebou. \nPobyt je určen přede­vším pro ty z vás\, kteří: \n\nse cítíte dlouhodobě vyčer­paní a přetížení\nprocházíte živ­ot­ní změ­nou nebo se nalézáte v pře­chod­ném období\nhledáte hluboký vnitřní klid a vnitřní ukotvení\nchcete spo­jit lázeňský pobyt s vnitřní prací\n\nTen­to pobyt není určen jako náhra­da psy­choter­apie\, ale jako pros­tor pro duševní reha­bil­itaci a obnovu. \nS ohle­dem na charak­ter pro­gra­mu je počet účast­níků omezen na max­imál­ně 10 osob. \nPROGRAM POBYTU\nSoučástí poby­tu je kaž­do­den­ní vedený pro­gram\, který propo­ju­je relaxaci\, péči a jem­nou terapii. \nV rámci pobytu získáte:\n\n1× vstup­ní konzul­tace s odbor­nicí\, hotelovou lékařkou\n6× lázeňská pro­ce­du­ra po zhod­no­cení zdravot­ního stavu\nkaž­do­den­ní vedený pro­gram (ráno / odpoledne/večer)\njem­né relax­ační a dechové techniky\npros­tor pro odpočinek a integraci\npod­po­ra během celého pobytu\n\nV ceně na 7 nocí v Park­hotelu Golf **** je zahrnu­to: \n\nuby­tování ve dvoulůžkovém pokoji\nplná pen­ze (sní­daně\, lehčí oběd a večeře — 3chodové menu)\nodborný pro­gram pod vedením 2 zkušených lektorek\nkonzul­tace s hotelovou lékařkou\n6 lázeňských pro­ce­dur po zhod­no­cení zdrav. stavu\nvol­ný vst­up do bazénu (den­ně 7–21h) s protiproudem\nwifi po celém hotelu a safe na pokoji\nžupan a ručníky k pobytu\nlázeňský poplatek\nparkování\n\nVíce infor­ma­ci o poby­tu najdete na odkazu: \nhttps://www.parkhotel-golf.cz/cz/ubytovani-nabidky/akcni-nabidka/cesta-z-iluze-k-prameni-pobytovy-balicek-19–7‑26–7‑2026–7‑noci/ \nTěším se na společné setkání\, \nPavla
URL:https://vedomespavlou.cz/udalost/cesta-z-iluze-k-prameni/
LOCATION:Parkhotel Golf Mariánské Lázně\, Czech Republic
ATTACH;FMTTYPE=image/jpeg:https://vedomespavlou.cz/wp-content/uploads/2026/04/000781_003171.jpg
END:VEVENT
END:VCALENDAR